BEGIN:VCALENDAR
VERSION:2.0
PRODID:-//eventon.com NONSGML v1.0//EN
CALSCALE:GREGORIAN
METHOD:PUBLISH
BEGIN:VEVENT
UID:69e8a22e3bb81
DTSTAMP:20260422T102550Z
DTSTART:20260401T140000Z
DTEND:20260401T200000Z
LOCATION:
SUMMARY:Bicicletta: Saisonstart 01.04.2026
DESCRIPTION:Die Buvette Bicicletta startet in die neue Saison! Freue dich a
 uf eine entspannte Atmosphäre\,  erfrischende Drinks und köstliche Snacks
 . Ob für einen kurzen Stopp oder gemütliche Stunden – hier findest du d
 en perfekten Ort\,  um die Seele baumeln zu lassen und den Moment zu genies
 sen. Wir freuen uns auf dich!\nhttps://pumptrack-ebikon.ch/events/biciclett
 a-saisonstart-01-04-2026/
URL:https://pumptrack-ebikon.ch/events/bicicletta-saisonstart-01-04-2026/
END:VEVENT
END:VCALENDAR